Package: codelink Version: 1.72.0 Command: /Library/Frameworks/R.framework/Resources/bin/R CMD INSTALL codelink StartedAt: 2024-06-09 15:11:19 -0400 (Sun, 09 Jun 2024) EndedAt: 2024-06-09 15:11:43 -0400 (Sun, 09 Jun 2024) EllapsedTime: 23.3 seconds RetCode: 0 Status: OK