Package: codelink Version: 1.72.0 Command: rm -rf codelink.buildbin-libdir && mkdir codelink.buildbin-libdir && E:\biocbuild\bbs-3.19-bioc\R\bin\R.exe CMD INSTALL --build --library=codelink.buildbin-libdir codelink_1.72.0.tar.gz StartedAt: 2024-10-17 07:34:26 -0400 (Thu, 17 Oct 2024) EndedAt: 2024-10-17 07:35:14 -0400 (Thu, 17 Oct 2024) EllapsedTime: 47.7 seconds RetCode: 0 Status: OK PackageFile: codelink_1.72.0.zip PackageFileSize: 3.572 MiB