Package: codelink Version: 1.72.0 Command: chmod a+r codelink -R && E:\biocbuild\bbs-3.19-bioc\R\bin\R.exe CMD build --keep-empty-dirs --no-resave-data codelink StartedAt: 2024-10-16 18:18:44 -0400 (Wed, 16 Oct 2024) EndedAt: 2024-10-16 18:19:35 -0400 (Wed, 16 Oct 2024) EllapsedTime: 51.1 seconds RetCode: 0 Status: OK PackageFile: codelink_1.72.0.tar.gz PackageFileSize: 3.181 MiB