Package: codelink Version: 1.72.0 Command: E:\biocbuild\bbs-3.19-bioc\R\bin\R.exe CMD INSTALL codelink StartedAt: 2024-10-16 16:20:55 -0400 (Wed, 16 Oct 2024) EndedAt: 2024-10-16 16:21:34 -0400 (Wed, 16 Oct 2024) EllapsedTime: 38.3 seconds RetCode: 0 Status: OK