Package: cola Version: 2.10.0 Command: /home/biocbuild/bbs-3.19-bioc/R/bin/R CMD check --install=check:cola.install-out.txt --library=/home/biocbuild/bbs-3.19-bioc/R/site-library --timings cola_2.10.0.tar.gz StartedAt: 2024-10-16 22:59:58 -0400 (Wed, 16 Oct 2024) EndedAt: 2024-10-16 23:02:59 -0400 (Wed, 16 Oct 2024) EllapsedTime: 180.3 seconds RetCode: 0 Status: OK CheckDir: cola.Rcheck Warnings: 0