Package: compcodeR Version: 1.40.0 Maintainer: Charlotte Soneson MaintainerEmail: charlottesoneson at gmail.com git_url: https://git.bioconductor.org/packages/compcodeR git_branch: RELEASE_3_19 git_last_commit: 5213459 git_last_commit_date: 2024-04-30 10:36:17 -0400 (Tue, 30 Apr 2024)