Package: compcodeR Version: 1.40.0 Command: /Library/Frameworks/R.framework/Resources/bin/R CMD build --keep-empty-dirs --no-resave-data compcodeR StartedAt: 2024-10-16 22:03:57 -0400 (Wed, 16 Oct 2024) EndedAt: 2024-10-16 22:04:23 -0400 (Wed, 16 Oct 2024) EllapsedTime: 26.2 seconds RetCode: 0 Status: OK PackageFile: compcodeR_1.40.0.tar.gz PackageFileSize: 4.74 MiB