Package: compcodeR Version: 1.40.0 Command: /Library/Frameworks/R.framework/Resources/bin/R CMD INSTALL compcodeR StartedAt: 2024-10-16 15:59:25 -0400 (Wed, 16 Oct 2024) EndedAt: 2024-10-16 15:59:57 -0400 (Wed, 16 Oct 2024) EllapsedTime: 32.3 seconds RetCode: 0 Status: OK