Package: compcodeR Version: 1.40.0 Command: /home/biocbuild/bbs-3.19-bioc/R/bin/R CMD build --keep-empty-dirs --no-resave-data compcodeR StartedAt: 2024-10-16 17:55:15 -0400 (Wed, 16 Oct 2024) EndedAt: 2024-10-16 17:55:35 -0400 (Wed, 16 Oct 2024) EllapsedTime: 20.1 seconds RetCode: 0 Status: OK PackageFile: compcodeR_1.40.0.tar.gz PackageFileSize: 4.732 MiB