Package: concordexR Version: 1.4.0 Command: /Library/Frameworks/R.framework/Resources/bin/R CMD build --keep-empty-dirs --no-resave-data concordexR StartedAt: 2024-10-16 22:05:07 -0400 (Wed, 16 Oct 2024) EndedAt: 2024-10-16 22:06:37 -0400 (Wed, 16 Oct 2024) EllapsedTime: 89.9 seconds RetCode: 0 Status: OK PackageFile: concordexR_1.4.0.tar.gz PackageFileSize: 1.717 MiB