Package: concordexR Version: 1.4.0 Command: rm -rf concordexR.buildbin-libdir && mkdir concordexR.buildbin-libdir && /Users/biocbuild/BBS/utils/build-universal.sh concordexR_1.4.0.tar.gz /Library/Frameworks/R.framework/Resources/bin/R concordexR.buildbin-libdir StartedAt: 2024-06-10 00:12:39 -0400 (Mon, 10 Jun 2024) EndedAt: 2024-06-10 00:13:03 -0400 (Mon, 10 Jun 2024) EllapsedTime: 24.0 seconds RetCode: 0 Status: OK PackageFile: concordexR_1.4.0.tgz PackageFileSize: 1.565 MiB