Package: concordexR Version: 1.4.0 Command: /Library/Frameworks/R.framework/Resources/bin/R CMD build --keep-empty-dirs --no-resave-data concordexR StartedAt: 2024-06-09 16:17:04 -0400 (Sun, 09 Jun 2024) EndedAt: 2024-06-09 16:18:20 -0400 (Sun, 09 Jun 2024) EllapsedTime: 76.0 seconds RetCode: 0 Status: OK PackageFile: concordexR_1.4.0.tar.gz PackageFileSize: 1.555 MiB