Package: concordexR Version: 1.4.0 Command: /Library/Frameworks/R.framework/Resources/bin/R CMD check --install=check:concordexR.install-out.txt --library=/Library/Frameworks/R.framework/Resources/library --no-vignettes --timings concordexR_1.4.0.tar.gz StartedAt: 2024-06-09 19:36:03 -0400 (Sun, 09 Jun 2024) EndedAt: 2024-06-09 19:38:21 -0400 (Sun, 09 Jun 2024) EllapsedTime: 138.3 seconds RetCode: 0 Status: OK CheckDir: concordexR.Rcheck Warnings: 0