Package: concordexR Version: 1.4.0 Command: /Library/Frameworks/R.framework/Resources/bin/R CMD build --keep-empty-dirs --no-resave-data concordexR StartedAt: 2024-10-16 18:11:09 -0400 (Wed, 16 Oct 2024) EndedAt: 2024-10-16 18:13:49 -0400 (Wed, 16 Oct 2024) EllapsedTime: 159.5 seconds RetCode: 0 Status: OK PackageFile: concordexR_1.4.0.tar.gz PackageFileSize: 1.544 MiB