Package: concordexR Version: 1.4.0 Command: chmod a+r concordexR -R && F:\biocbuild\bbs-3.19-bioc\R\bin\R.exe CMD build --keep-empty-dirs --no-resave-data concordexR StartedAt: 2024-06-26 17:59:34 -0400 (Wed, 26 Jun 2024) EndedAt: 2024-06-26 18:01:17 -0400 (Wed, 26 Jun 2024) EllapsedTime: 103.0 seconds RetCode: 0 Status: OK PackageFile: concordexR_1.4.0.tar.gz PackageFileSize: 1.111 MiB