Package: concordexR Version: 1.4.0 Command: chmod a+r concordexR -R && E:\biocbuild\bbs-3.19-bioc\R\bin\R.exe CMD build --keep-empty-dirs --no-resave-data concordexR StartedAt: 2024-10-16 18:21:39 -0400 (Wed, 16 Oct 2024) EndedAt: 2024-10-16 18:24:47 -0400 (Wed, 16 Oct 2024) EllapsedTime: 187.8 seconds RetCode: 0 Status: OK PackageFile: concordexR_1.4.0.tar.gz PackageFileSize: 1.135 MiB