Package: consICA Version: 2.2.0 Command: /Library/Frameworks/R.framework/Resources/bin/R CMD INSTALL consICA StartedAt: 2024-10-16 16:24:05 -0400 (Wed, 16 Oct 2024) EndedAt: 2024-10-16 16:25:15 -0400 (Wed, 16 Oct 2024) EllapsedTime: 70.4 seconds RetCode: 0 Status: OK