Package: consICA Version: 2.2.0 Command: chmod a+r consICA -R && E:\biocbuild\bbs-3.19-bioc\R\bin\R.exe CMD build --keep-empty-dirs --no-resave-data consICA StartedAt: 2024-10-16 18:22:53 -0400 (Wed, 16 Oct 2024) EndedAt: 2024-10-16 18:24:23 -0400 (Wed, 16 Oct 2024) EllapsedTime: 90.2 seconds RetCode: 0 Status: OK PackageFile: consICA_2.2.0.tar.gz PackageFileSize: 3.206 MiB