Package: consICA Version: 2.2.0 Command: E:\biocbuild\bbs-3.19-bioc\R\bin\R.exe CMD INSTALL consICA StartedAt: 2024-10-16 17:02:16 -0400 (Wed, 16 Oct 2024) EndedAt: 2024-10-16 17:02:59 -0400 (Wed, 16 Oct 2024) EllapsedTime: 42.8 seconds RetCode: 0 Status: OK