Package: consensus Version: 1.22.0 Command: rm -rf consensus.buildbin-libdir && mkdir consensus.buildbin-libdir && /Users/biocbuild/BBS/utils/build-universal.sh consensus_1.22.0.tar.gz /Library/Frameworks/R.framework/Resources/bin/R consensus.buildbin-libdir StartedAt: 2024-10-18 17:55:07 -0400 (Fri, 18 Oct 2024) EndedAt: 2024-10-18 17:55:13 -0400 (Fri, 18 Oct 2024) EllapsedTime: 5.7 seconds RetCode: 0 Status: OK PackageFile: consensus_1.22.0.tgz PackageFileSize: 1.091 MiB