Package: consensus Version: 1.22.0 Command: /Library/Frameworks/R.framework/Resources/bin/R CMD build --keep-empty-dirs --no-resave-data consensus StartedAt: 2024-10-16 18:11:27 -0400 (Wed, 16 Oct 2024) EndedAt: 2024-10-16 18:11:50 -0400 (Wed, 16 Oct 2024) EllapsedTime: 22.9 seconds RetCode: 0 Status: OK PackageFile: consensus_1.22.0.tar.gz PackageFileSize: 970.7 KiB