Package: consensus Version: 1.22.0 Command: rm -rf consensus.buildbin-libdir && mkdir consensus.buildbin-libdir && F:\biocbuild\bbs-3.19-bioc\R\bin\R.exe CMD INSTALL --build --library=consensus.buildbin-libdir consensus_1.22.0.tar.gz StartedAt: 2024-06-27 08:02:19 -0400 (Thu, 27 Jun 2024) EndedAt: 2024-06-27 08:02:26 -0400 (Thu, 27 Jun 2024) EllapsedTime: 6.9 seconds RetCode: 0 Status: OK PackageFile: consensus_1.22.0.zip PackageFileSize: 1.098 MiB