Package: consensusOV Version: 1.26.0 Command: /home/biocbuild/R/R-beta-2024-04-15_r86425/bin/R CMD build --keep-empty-dirs --no-resave-data consensusOV StartedAt: 2024-05-08 23:31:34 -0000 (Wed, 08 May 2024) EndedAt: 2024-05-08 23:34:18 -0000 (Wed, 08 May 2024) EllapsedTime: 164.2 seconds RetCode: 0 Status: OK PackageFile: consensusOV_1.26.0.tar.gz PackageFileSize: 3.225 MiB