Package: contiBAIT Version: 1.31.1 Command: /home/biocbuild/R/R-devel_2024-01-16_r85812/bin/R CMD check --install=check:contiBAIT.install-out.txt --library=/home/biocbuild/R/R-devel_2024-01-16_r85812/site-library --no-vignettes --timings contiBAIT_1.31.1.tar.gz StartedAt: 2024-03-12 03:46:16 -0000 (Tue, 12 Mar 2024) EndedAt: 2024-03-12 03:54:05 -0000 (Tue, 12 Mar 2024) EllapsedTime: 468.8 seconds RetCode: 0 Status: WARNINGS CheckDir: contiBAIT.Rcheck Warnings: 2