Package: contiBAIT Version: 1.32.0 Command: E:\biocbuild\bbs-3.19-bioc\R\bin\R.exe CMD INSTALL contiBAIT StartedAt: 2024-10-16 17:27:52 -0400 (Wed, 16 Oct 2024) EndedAt: 2024-10-16 17:27:52 -0400 (Wed, 16 Oct 2024) EllapsedTime: 0.4 seconds RetCode: 1 Status: ERROR