Package: conumee Version: 1.38.0 Command: /Library/Frameworks/R.framework/Resources/bin/R CMD build --keep-empty-dirs --no-resave-data conumee StartedAt: 2024-10-16 22:09:12 -0400 (Wed, 16 Oct 2024) EndedAt: 2024-10-16 22:18:57 -0400 (Wed, 16 Oct 2024) EllapsedTime: 585.2 seconds RetCode: 0 Status: OK PackageFile: conumee_1.38.0.tar.gz PackageFileSize: 1.782 MiB