Package: conumee Version: 1.38.0 Command: /Library/Frameworks/R.framework/Resources/bin/R CMD INSTALL conumee StartedAt: 2024-10-16 18:46:00 -0400 (Wed, 16 Oct 2024) EndedAt: 2024-10-16 18:51:28 -0400 (Wed, 16 Oct 2024) EllapsedTime: 327.8 seconds RetCode: 0 Status: OK