Package: conumee Version: 1.38.0 Command: rm -rf conumee.buildbin-libdir && mkdir conumee.buildbin-libdir && /Users/biocbuild/BBS/utils/build-universal.sh conumee_1.38.0.tar.gz /Library/Frameworks/R.framework/Resources/bin/R conumee.buildbin-libdir StartedAt: 2024-10-17 15:55:05 -0400 (Thu, 17 Oct 2024) EndedAt: 2024-10-17 16:01:04 -0400 (Thu, 17 Oct 2024) EllapsedTime: 358.8 seconds RetCode: 0 Status: OK PackageFile: conumee_1.38.0.tgz PackageFileSize: 2.125 MiB