Package: conumee Version: 1.38.0 Command: /Library/Frameworks/R.framework/Resources/bin/R CMD check --install=check:conumee.install-out.txt --library=/Library/Frameworks/R.framework/Resources/library --no-vignettes --timings conumee_1.38.0.tar.gz StartedAt: 2024-10-17 03:15:57 -0400 (Thu, 17 Oct 2024) EndedAt: 2024-10-17 03:55:58 -0400 (Thu, 17 Oct 2024) EllapsedTime: 2400.6 seconds RetCode: None Status: TIMEOUT CheckDir: conumee.Rcheck Warnings: NA