Package: conumee Version: 1.38.0 Command: /Library/Frameworks/R.framework/Resources/bin/R CMD INSTALL conumee StartedAt: 2024-10-16 16:44:26 -0400 (Wed, 16 Oct 2024) EndedAt: 2024-10-16 16:50:12 -0400 (Wed, 16 Oct 2024) EllapsedTime: 345.4 seconds RetCode: 0 Status: OK