Package: conumee Version: 1.38.0 Command: /home/biocbuild/bbs-3.19-bioc/R/bin/R CMD build --keep-empty-dirs --no-resave-data conumee StartedAt: 2024-10-16 17:56:57 -0400 (Wed, 16 Oct 2024) EndedAt: 2024-10-16 18:03:37 -0400 (Wed, 16 Oct 2024) EllapsedTime: 399.8 seconds RetCode: 0 Status: OK PackageFile: conumee_1.38.0.tar.gz PackageFileSize: 1.195 MiB