Package: convert Version: 1.80.0 Command: /Library/Frameworks/R.framework/Resources/bin/R CMD check --install=check:convert.install-out.txt --library=/Library/Frameworks/R.framework/Resources/library --no-vignettes --timings convert_1.80.0.tar.gz StartedAt: 2024-10-17 17:25:28 -0400 (Thu, 17 Oct 2024) EndedAt: 2024-10-17 17:26:07 -0400 (Thu, 17 Oct 2024) EllapsedTime: 39.3 seconds RetCode: 0 Status: OK CheckDir: convert.Rcheck Warnings: 0