Package: convert Version: 1.80.0 Command: /home/biocbuild/bbs-3.19-bioc/R/bin/R CMD build --keep-empty-dirs --no-resave-data convert StartedAt: 2024-10-16 17:57:00 -0400 (Wed, 16 Oct 2024) EndedAt: 2024-10-16 17:57:06 -0400 (Wed, 16 Oct 2024) EllapsedTime: 6.0 seconds RetCode: 0 Status: OK PackageFile: convert_1.80.0.tar.gz PackageFileSize: 49.53 KiB