Package: convert Version: 1.80.0 Command: /home/biocbuild/bbs-3.19-bioc/R/bin/R CMD INSTALL convert StartedAt: 2024-10-16 15:52:19 -0400 (Wed, 16 Oct 2024) EndedAt: 2024-10-16 15:52:24 -0400 (Wed, 16 Oct 2024) EllapsedTime: 4.7 seconds RetCode: 0 Status: OK