Package: convert Version: 1.80.0 Command: chmod a+r convert -R && E:\biocbuild\bbs-3.19-bioc\R\bin\R.exe CMD build --keep-empty-dirs --no-resave-data convert StartedAt: 2024-10-16 18:23:05 -0400 (Wed, 16 Oct 2024) EndedAt: 2024-10-16 18:23:17 -0400 (Wed, 16 Oct 2024) EllapsedTime: 11.4 seconds RetCode: 0 Status: OK PackageFile: convert_1.80.0.tar.gz PackageFileSize: 50.32 KiB