Package: copa Version: 1.72.0 Command: /Library/Frameworks/R.framework/Resources/bin/R CMD check --install=check:copa.install-out.txt --library=/Library/Frameworks/R.framework/Resources/library --no-vignettes --timings copa_1.72.0.tar.gz StartedAt: 2024-10-17 17:25:36 -0400 (Thu, 17 Oct 2024) EndedAt: 2024-10-17 17:26:06 -0400 (Thu, 17 Oct 2024) EllapsedTime: 30.3 seconds RetCode: 0 Status: OK CheckDir: copa.Rcheck Warnings: 0