Package: copa Version: 1.72.0 Command: /Library/Frameworks/R.framework/Resources/bin/R CMD INSTALL copa StartedAt: 2024-10-16 15:37:39 -0400 (Wed, 16 Oct 2024) EndedAt: 2024-10-16 15:37:47 -0400 (Wed, 16 Oct 2024) EllapsedTime: 7.2 seconds RetCode: 0 Status: OK