Package: copa Version: 1.72.0 Command: /Library/Frameworks/R.framework/Resources/bin/R CMD check --install=check:copa.install-out.txt --library=/Library/Frameworks/R.framework/Resources/library --no-vignettes --timings copa_1.72.0.tar.gz StartedAt: 2024-06-10 11:42:24 -0400 (Mon, 10 Jun 2024) EndedAt: 2024-06-10 11:43:18 -0400 (Mon, 10 Jun 2024) EllapsedTime: 53.7 seconds RetCode: 0 Status: OK CheckDir: copa.Rcheck Warnings: 0