Package: copa Version: 1.72.0 Command: /home/biocbuild/R/R-beta-2024-04-15_r86425/bin/R CMD check --install=check:copa.install-out.txt --library=/home/biocbuild/R/R-beta-2024-04-15_r86425/site-library --no-vignettes --timings copa_1.72.0.tar.gz StartedAt: 2024-05-09 06:11:26 -0000 (Thu, 09 May 2024) EndedAt: 2024-05-09 06:11:49 -0000 (Thu, 09 May 2024) EllapsedTime: 23.1 seconds RetCode: 0 Status: OK CheckDir: copa.Rcheck Warnings: 0