Package: copa Version: 1.72.0 Command: /home/biocbuild/R/R-beta-2024-04-15_r86425/bin/R CMD INSTALL copa StartedAt: 2024-05-08 20:03:47 -0000 (Wed, 08 May 2024) EndedAt: 2024-05-08 20:04:24 -0000 (Wed, 08 May 2024) EllapsedTime: 37.2 seconds RetCode: 0 Status: OK