Package: copa Version: 1.72.0 Command: rm -rf copa.buildbin-libdir && mkdir copa.buildbin-libdir && /Users/biocbuild/BBS/utils/build-universal.sh copa_1.72.0.tar.gz /Library/Frameworks/R.framework/Resources/bin/R copa.buildbin-libdir StartedAt: 2024-06-10 00:12:49 -0400 (Mon, 10 Jun 2024) EndedAt: 2024-06-10 00:12:56 -0400 (Mon, 10 Jun 2024) EllapsedTime: 6.8 seconds RetCode: 0 Status: OK PackageFile: copa_1.72.0.tgz PackageFileSize: 159 KiB