Package: copa Version: 1.72.0 Command: /Library/Frameworks/R.framework/Resources/bin/R CMD INSTALL copa StartedAt: 2024-06-09 15:04:36 -0400 (Sun, 09 Jun 2024) EndedAt: 2024-06-09 15:05:06 -0400 (Sun, 09 Jun 2024) EllapsedTime: 30.3 seconds RetCode: 0 Status: OK