Package: copa Version: 1.72.0 Command: /Library/Frameworks/R.framework/Resources/bin/R CMD build --keep-empty-dirs --no-resave-data copa StartedAt: 2024-10-16 18:13:26 -0400 (Wed, 16 Oct 2024) EndedAt: 2024-10-16 18:13:54 -0400 (Wed, 16 Oct 2024) EllapsedTime: 27.5 seconds RetCode: 0 Status: OK PackageFile: copa_1.72.0.tar.gz PackageFileSize: 121 KiB