Package: copa Version: 1.72.0 Command: /home/biocbuild/bbs-3.19-bioc/R/bin/R CMD build --keep-empty-dirs --no-resave-data copa StartedAt: 2024-10-16 17:57:05 -0400 (Wed, 16 Oct 2024) EndedAt: 2024-10-16 17:57:12 -0400 (Wed, 16 Oct 2024) EllapsedTime: 7.0 seconds RetCode: 0 Status: OK PackageFile: copa_1.72.0.tar.gz PackageFileSize: 121.1 KiB