Package: copa Version: 1.72.0 Command: /home/biocbuild/bbs-3.19-bioc/R/bin/R CMD INSTALL copa StartedAt: 2024-10-16 15:50:11 -0400 (Wed, 16 Oct 2024) EndedAt: 2024-10-16 15:50:20 -0400 (Wed, 16 Oct 2024) EllapsedTime: 8.5 seconds RetCode: 0 Status: OK