Package: copa Version: 1.72.0 Command: rm -rf copa.buildbin-libdir && mkdir copa.buildbin-libdir && F:\biocbuild\bbs-3.19-bioc\R\bin\R.exe CMD INSTALL --build --library=copa.buildbin-libdir copa_1.72.0.tar.gz StartedAt: 2024-06-27 08:02:35 -0400 (Thu, 27 Jun 2024) EndedAt: 2024-06-27 08:02:48 -0400 (Thu, 27 Jun 2024) EllapsedTime: 13.1 seconds RetCode: 0 Status: OK PackageFile: copa_1.72.0.zip PackageFileSize: 167.1 KiB