Package: copa Version: 1.72.0 Command: chmod a+r copa -R && F:\biocbuild\bbs-3.19-bioc\R\bin\R.exe CMD build --keep-empty-dirs --no-resave-data copa StartedAt: 2024-06-26 18:00:36 -0400 (Wed, 26 Jun 2024) EndedAt: 2024-06-26 18:00:53 -0400 (Wed, 26 Jun 2024) EllapsedTime: 16.5 seconds RetCode: 0 Status: OK PackageFile: copa_1.72.0.tar.gz PackageFileSize: 121.4 KiB