Package: copa Version: 1.72.0 Command: F:\biocbuild\bbs-3.19-bioc\R\bin\R.exe CMD INSTALL copa StartedAt: 2024-06-26 15:40:37 -0400 (Wed, 26 Jun 2024) EndedAt: 2024-06-26 15:41:05 -0400 (Wed, 26 Jun 2024) EllapsedTime: 27.1 seconds RetCode: 0 Status: OK