Package: copa Version: 1.72.0 Command: rm -rf copa.buildbin-libdir && mkdir copa.buildbin-libdir && E:\biocbuild\bbs-3.19-bioc\R\bin\R.exe CMD INSTALL --build --library=copa.buildbin-libdir copa_1.72.0.tar.gz StartedAt: 2024-10-17 07:35:39 -0400 (Thu, 17 Oct 2024) EndedAt: 2024-10-17 07:35:50 -0400 (Thu, 17 Oct 2024) EllapsedTime: 10.6 seconds RetCode: 0 Status: OK PackageFile: copa_1.72.0.zip PackageFileSize: 167.2 KiB