Package: copa Version: 1.72.0 Command: chmod a+r copa -R && E:\biocbuild\bbs-3.19-bioc\R\bin\R.exe CMD build --keep-empty-dirs --no-resave-data copa StartedAt: 2024-10-16 18:23:06 -0400 (Wed, 16 Oct 2024) EndedAt: 2024-10-16 18:23:24 -0400 (Wed, 16 Oct 2024) EllapsedTime: 17.7 seconds RetCode: 0 Status: OK PackageFile: copa_1.72.0.tar.gz PackageFileSize: 121.4 KiB